BEGIN:VCALENDAR
VERSION:2.0
PRODID:-//Pacto Mundial México - ECPv5.1.5//NONSGML v1.0//EN
CALSCALE:GREGORIAN
METHOD:PUBLISH
X-WR-CALNAME:Pacto Mundial México
X-ORIGINAL-URL:https://www.pactomundial.org.mx
X-WR-CALDESC:Eventos para Pacto Mundial México
BEGIN:VTIMEZONE
TZID:America/Mexico_City
BEGIN:DAYLIGHT
TZOFFSETFROM:-0600
TZOFFSETTO:-0500
TZNAME:CDT
DTSTART:20200405T080000
END:DAYLIGHT
BEGIN:STANDARD
TZOFFSETFROM:-0500
TZOFFSETTO:-0600
TZNAME:CST
DTSTART:20201025T070000
END:STANDARD
END:VTIMEZONE
BEGIN:VEVENT
DTSTART;TZID=America/Mexico_City:20200416T133000
DTEND;TZID=America/Mexico_City:20200416T143000
DTSTAMP:20230415T042227
CREATED:20200417T131834Z
LAST-MODIFIED:20200421T213130Z
UID:6673-1587043800-1587047400@www.pactomundial.org.mx
SUMMARY:Oportunidad de negocios aplicando diez principios del Pacto Global
DESCRIPTION:
URL:https://www.pactomundial.org.mx/evento/webinar/
LOCATION:new york\, NY\, United States
CATEGORIES:Estándares Laborales,WEBINAR
END:VEVENT
END:VCALENDAR