BEGIN:VCALENDAR
VERSION:2.0
PRODID:-//Pacto Mundial México - ECPv5.1.5//NONSGML v1.0//EN
CALSCALE:GREGORIAN
METHOD:PUBLISH
X-WR-CALNAME:Pacto Mundial México
X-ORIGINAL-URL:https://www.pactomundial.org.mx
X-WR-CALDESC:Eventos para Pacto Mundial México
BEGIN:VTIMEZONE
TZID:America/Mexico_City
BEGIN:DAYLIGHT
TZOFFSETFROM:-0600
TZOFFSETTO:-0500
TZNAME:CDT
DTSTART:20210404T080000
END:DAYLIGHT
BEGIN:STANDARD
TZOFFSETFROM:-0500
TZOFFSETTO:-0600
TZNAME:CST
DTSTART:20211031T070000
END:STANDARD
END:VTIMEZONE
BEGIN:VEVENT
DTSTART;TZID=America/Mexico_City:20210211T090000
DTEND;TZID=America/Mexico_City:20210211T100000
DTSTAMP:20230415T065316
CREATED:20210209T225913Z
LAST-MODIFIED:20210209T225913Z
UID:8604-1613034000-1613037600@www.pactomundial.org.mx
SUMMARY:Ciudades Sostenibles
DESCRIPTION:Gratuito \n
URL:https://www.pactomundial.org.mx/evento/ciudades-sostenibles/
CATEGORIES:Acción por el clima,Estándares Laborales,Medio Ambiente
ATTACH;FMTTYPE=image/png:https://www.pactomundial.org.mx/wp-content/uploads/2021/02/Curso-2021-1a.png
END:VEVENT
BEGIN:VEVENT
DTSTART;TZID=America/Mexico_City:20210216T100000
DTEND;TZID=America/Mexico_City:20210216T110000
DTSTAMP:20230415T065316
CREATED:20210122T162841Z
LAST-MODIFIED:20210209T222519Z
UID:8542-1613469600-1613473200@www.pactomundial.org.mx
SUMMARY:Elaboración COP y COE
DESCRIPTION:Sólo para Adheridos \n
URL:https://www.pactomundial.org.mx/evento/elaboracion-cop-y-coe/
CATEGORIES:Elaboración COP - COE,Estándares Laborales,WEBINAR
ATTACH;FMTTYPE=image/jpeg:https://www.pactomundial.org.mx/wp-content/uploads/2021/01/COP-y-COE-16-feb-2021.jpg
END:VEVENT
END:VCALENDAR