BEGIN:VCALENDAR
VERSION:2.0
PRODID:-//Pacto Mundial México - ECPv5.1.5//NONSGML v1.0//EN
CALSCALE:GREGORIAN
METHOD:PUBLISH
X-WR-CALNAME:Pacto Mundial México
X-ORIGINAL-URL:https://www.pactomundial.org.mx
X-WR-CALDESC:Eventos para Pacto Mundial México
BEGIN:VTIMEZONE
TZID:America/Mexico_City
BEGIN:DAYLIGHT
TZOFFSETFROM:-0600
TZOFFSETTO:-0500
TZNAME:CDT
DTSTART:20230402T080000
END:DAYLIGHT
BEGIN:STANDARD
TZOFFSETFROM:-0500
TZOFFSETTO:-0600
TZNAME:CST
DTSTART:20231029T070000
END:STANDARD
END:VTIMEZONE
BEGIN:VEVENT
DTSTART;TZID=America/Mexico_City:20230201T100000
DTEND;TZID=America/Mexico_City:20230201T110000
DTSTAMP:20230415T103030
CREATED:20230116T224645Z
LAST-MODIFIED:20230116T231924Z
UID:11553-1675245600-1675249200@www.pactomundial.org.mx
SUMMARY:Bienvenida al Pacto Mundial
DESCRIPTION:Solo para Adheridos \nGratuito \n
URL:https://www.pactomundial.org.mx/evento/bienvenida-al-pacto-mundial-21/
CATEGORIES:Recién Adheridos,WEBINAR
ATTACH;FMTTYPE=image/jpeg:https://www.pactomundial.org.mx/wp-content/uploads/2023/01/1.-Feb_Bienvenida-e1673909091556.jpg
END:VEVENT
BEGIN:VEVENT
DTSTART;TZID=America/Mexico_City:20230208T100000
DTEND;TZID=America/Mexico_City:20230208T110000
DTSTAMP:20230415T103030
CREATED:20230116T231849Z
LAST-MODIFIED:20230116T232200Z
UID:11556-1675850400-1675854000@www.pactomundial.org.mx
SUMMARY:Nuevo Entrenamiento CoP
DESCRIPTION:Solo para Adheridos \nGratuito \n
URL:https://www.pactomundial.org.mx/evento/nuevo-entrenamiento-cop/
CATEGORIES:Recién Adheridos,WEBINAR
ATTACH;FMTTYPE=image/jpeg:https://www.pactomundial.org.mx/wp-content/uploads/2023/01/1.Feb_Comunicado-e1673911312893.jpg
END:VEVENT
BEGIN:VEVENT
DTSTART;TZID=America/Mexico_City:20230215T100000
DTEND;TZID=America/Mexico_City:20230215T110000
DTSTAMP:20230415T103030
CREATED:20230116T232532Z
LAST-MODIFIED:20230116T232532Z
UID:11562-1676455200-1676458800@www.pactomundial.org.mx
SUMMARY:Comunica tu Compromiso: Uso de imagen y logo
DESCRIPTION:Solo para Adheridos \nGratuito \n
URL:https://www.pactomundial.org.mx/evento/comunica-tu-compromiso-uso-de-imagen-y-logo-17/
CATEGORIES:Recién Adheridos,WEBINAR
ATTACH;FMTTYPE=image/jpeg:https://www.pactomundial.org.mx/wp-content/uploads/2023/01/1.-Feb_UsoImagen-e1673911506733.jpg
END:VEVENT
BEGIN:VEVENT
DTSTART;TZID=America/Mexico_City:20230301T100000
DTEND;TZID=America/Mexico_City:20230301T110000
DTSTAMP:20230415T103030
CREATED:20230120T022353Z
LAST-MODIFIED:20230120T022353Z
UID:11581-1677664800-1677668400@www.pactomundial.org.mx
SUMMARY:Bienvenida al Pacto Mundial
DESCRIPTION:Solo para Adheridos \nGratuito \n
URL:https://www.pactomundial.org.mx/evento/bienvenida-al-pacto-mundial-22/
CATEGORIES:Recién Adheridos,WEBINAR
ATTACH;FMTTYPE=image/jpeg:https://www.pactomundial.org.mx/wp-content/uploads/2023/01/2-Bienvenida-marzo-e1674181324670.jpg
END:VEVENT
END:VCALENDAR