BEGIN:VCALENDAR
VERSION:2.0
PRODID:-//Pacto Mundial México - ECPv5.1.5//NONSGML v1.0//EN
CALSCALE:GREGORIAN
METHOD:PUBLISH
X-WR-CALNAME:Pacto Mundial México
X-ORIGINAL-URL:https://www.pactomundial.org.mx
X-WR-CALDESC:Eventos para Pacto Mundial México
BEGIN:VTIMEZONE
TZID:America/Mexico_City
BEGIN:DAYLIGHT
TZOFFSETFROM:-0600
TZOFFSETTO:-0500
TZNAME:CDT
DTSTART:20230402T080000
END:DAYLIGHT
BEGIN:STANDARD
TZOFFSETFROM:-0500
TZOFFSETTO:-0600
TZNAME:CST
DTSTART:20231029T070000
END:STANDARD
END:VTIMEZONE
BEGIN:VEVENT
DTSTART;TZID=America/Mexico_City:20231220T100000
DTEND;TZID=America/Mexico_City:20231220T110000
DTSTAMP:20230415T043647
CREATED:20230317T043839Z
LAST-MODIFIED:20230317T043839Z
UID:12053-1703066400-1703070000@www.pactomundial.org.mx
SUMMARY:Comunica tu Compromiso: Uso de imagen y logo
DESCRIPTION:Sólo para Adheridos \nGratuito \n
URL:https://www.pactomundial.org.mx/evento/comunica-tu-compromiso-uso-de-imagen-y-logo-25/
CATEGORIES:Recién Adheridos,WEBINAR
ATTACH;FMTTYPE=image/png:https://www.pactomundial.org.mx/wp-content/uploads/2023/03/COMM-LOGO-11-e1679027875165.png
END:VEVENT
BEGIN:VEVENT
DTSTART;TZID=America/Mexico_City:20231213T080000
DTEND;TZID=America/Mexico_City:20231213T170000
DTSTAMP:20230415T043647
CREATED:20230317T043600Z
LAST-MODIFIED:20230317T043600Z
UID:12051-1702454400-1702486800@www.pactomundial.org.mx
SUMMARY:Nuevo Entrenamiento CoP
DESCRIPTION:Sólo para Adheridos \nGratuito \n
URL:https://www.pactomundial.org.mx/evento/nuevo-entrenamiento-cop-9/
CATEGORIES:Recién Adheridos,WEBINAR
ATTACH;FMTTYPE=image/png:https://www.pactomundial.org.mx/wp-content/uploads/2023/01/ENTRENAMIENTO-CoP_Mesa-de-trabajo-1-e1679027708318.png
END:VEVENT
BEGIN:VEVENT
DTSTART;TZID=America/Mexico_City:20231206T100000
DTEND;TZID=America/Mexico_City:20231206T110000
DTSTAMP:20230415T043647
CREATED:20230317T043301Z
LAST-MODIFIED:20230317T043301Z
UID:12049-1701856800-1701860400@www.pactomundial.org.mx
SUMMARY:Bienvenida al Pacto Mundial
DESCRIPTION:Sólo para Adheridos \nGratuito \n
URL:https://www.pactomundial.org.mx/evento/bienvenida-al-pacto-mundial-29/
CATEGORIES:Recién Adheridos,WEBINAR
ATTACH;FMTTYPE=image/png:https://www.pactomundial.org.mx/wp-content/uploads/2023/01/Bienvenida-11-e1679027541805.png
END:VEVENT
BEGIN:VEVENT
DTSTART;TZID=America/Mexico_City:20231121T090000
DTEND;TZID=America/Mexico_City:20231121T130000
DTSTAMP:20230415T043647
CREATED:20230208T194532Z
LAST-MODIFIED:20230405T233131Z
UID:11691-1700557200-1700571600@www.pactomundial.org.mx
SUMMARY:Entrenamiento Certificado GRI: Elaboración de informes bajo los Estándares GRI
DESCRIPTION:*Abierto al público \nPacto Mundial México te invita al entrenamiento certificado GRI que contribuirá a que tu empresa reporte adecuadamente su desempeño bajo los Estándares GRI. \nEl entrenamiento certificado por GRI será impartido por especialistas de KPMG\, quienes cuentan con amplia experiencia en la impartición de cursos certificados del Global Reporting Initiative y en la prestación de servicios de asesoría para ayudar a empresas a establecer sus estrategias de sostenibilidad y reportar su desempeño sostenible. \nDirigido a profesionistas de México y Latinoamérica las siguientes áreas: \n\nResponsabilidad Social Corporativa\nDesarrollo Sostenible / Sostenibilidad\nComunicación Corporativa\nRecursos Humanos\nRelación con Inversionistas\nSalud\, Seguridad y Protección Ambiental\n\nEl taller consiste en 16 horas totales de entrenamiento\, divididas en 4 días:\nFECHAS: 21\, 22\, 27 y 28 de noviembre de 2023\nHORARIO: 09:00 a 13:00 hrs (CDMX) \nConsulta el temario del taller y conoce al equipo facilitador aquí. \nCOSTO: $8\,000.00 MXN (sin IVA)\n(donativo deducible de impuestos)\n20% de descuento a los adheridos de Pacto Mundial México que van al corriente en aportaciones anuales. \n*Fecha de cierre de inscripciones y pago: 7 de Noviembre del 2023\nINSCRÍBETE AQUÍ\n  \nSi tienes alguna duda\, escribe al correo analisis@pactomundial.org.mx con Iván Arvide. \n
URL:https://www.pactomundial.org.mx/evento/entrenamiento-certificado-gri-elaboracion-de-informes-bajo-los-estandares-gri-2/
LOCATION:En Línea
ATTACH;FMTTYPE=image/jpeg:https://www.pactomundial.org.mx/wp-content/uploads/2023/02/ReportesGRI1-2-1.jpg
END:VEVENT
BEGIN:VEVENT
DTSTART;TZID=America/Mexico_City:20231115T100000
DTEND;TZID=America/Mexico_City:20231115T110000
DTSTAMP:20230415T043647
CREATED:20230317T042902Z
LAST-MODIFIED:20230317T042902Z
UID:12047-1700042400-1700046000@www.pactomundial.org.mx
SUMMARY:Comunica tu Compromiso: Uso de imagen y logo
DESCRIPTION:Sólo para Adheridos \nGratuito \n
URL:https://www.pactomundial.org.mx/evento/comunica-tu-compromiso-uso-de-imagen-y-logo-24/
CATEGORIES:Recién Adheridos,WEBINAR
ATTACH;FMTTYPE=image/png:https://www.pactomundial.org.mx/wp-content/uploads/2023/03/COMM-LOGO-10-e1679027297478.png
END:VEVENT
BEGIN:VEVENT
DTSTART;TZID=America/Mexico_City:20231108T100000
DTEND;TZID=America/Mexico_City:20231108T110000
DTSTAMP:20230415T043647
CREATED:20230317T042614Z
LAST-MODIFIED:20230317T042614Z
UID:12045-1699437600-1699441200@www.pactomundial.org.mx
SUMMARY:Nuevo Entrenamiento CoP
DESCRIPTION:Sólo para Adheridos \nGratuito \n
URL:https://www.pactomundial.org.mx/evento/nuevo-entrenamiento-cop-8/
CATEGORIES:Recién Adheridos,WEBINAR
ATTACH;FMTTYPE=image/png:https://www.pactomundial.org.mx/wp-content/uploads/2023/01/ENTRENAMIENTO-CoP-02-e1679027128702.png
END:VEVENT
BEGIN:VEVENT
DTSTART;TZID=America/Mexico_City:20231101T100000
DTEND;TZID=America/Mexico_City:20231101T110000
DTSTAMP:20230415T043647
CREATED:20230317T042228Z
LAST-MODIFIED:20230317T042228Z
UID:12043-1698832800-1698836400@www.pactomundial.org.mx
SUMMARY:Bienvenida al Pacto Mundial
DESCRIPTION:Sólo para Adheridos \nGratuito \n
URL:https://www.pactomundial.org.mx/evento/bienvenida-al-pacto-mundial-28/
CATEGORIES:Recién Adheridos,WEBINAR
ATTACH;FMTTYPE=image/png:https://www.pactomundial.org.mx/wp-content/uploads/2023/01/Bienvenida-10-e1679026891559.png
END:VEVENT
BEGIN:VEVENT
DTSTART;TZID=America/Mexico_City:20231018T100000
DTEND;TZID=America/Mexico_City:20231018T110000
DTSTAMP:20230415T043647
CREATED:20230317T041605Z
LAST-MODIFIED:20230317T041605Z
UID:12041-1697623200-1697626800@www.pactomundial.org.mx
SUMMARY:Comunica tu Compromiso: Uso de imagen y logo
DESCRIPTION:Sólo para Adheridos \nGratuito \n
URL:https://www.pactomundial.org.mx/evento/comunica-tu-compromiso-uso-de-imagen-y-logo-23/
CATEGORIES:Recién Adheridos,WEBINAR
ATTACH;FMTTYPE=image/png:https://www.pactomundial.org.mx/wp-content/uploads/2023/03/COMM-LOGO-09-e1679026518218.png
END:VEVENT
BEGIN:VEVENT
DTSTART;TZID=America/Mexico_City:20231011T100000
DTEND;TZID=America/Mexico_City:20231011T110000
DTSTAMP:20230415T043647
CREATED:20230317T041300Z
LAST-MODIFIED:20230317T041300Z
UID:12039-1697018400-1697022000@www.pactomundial.org.mx
SUMMARY:Nuevo Entrenamiento CoP
DESCRIPTION:Sólo para Adheridos \n
URL:https://www.pactomundial.org.mx/evento/nuevo-entrenamiento-cop-7/
CATEGORIES:Recién Adheridos,WEBINAR
ATTACH;FMTTYPE=image/png:https://www.pactomundial.org.mx/wp-content/uploads/2023/01/ENTRENAMIENTO-CoP-03-e1679026314895.png
END:VEVENT
BEGIN:VEVENT
DTSTART;TZID=America/Mexico_City:20231004T100000
DTEND;TZID=America/Mexico_City:20231004T110000
DTSTAMP:20230415T043647
CREATED:20230317T030019Z
LAST-MODIFIED:20230317T030019Z
UID:12036-1696413600-1696417200@www.pactomundial.org.mx
SUMMARY:Bienvenida al Pacto Mundial
DESCRIPTION:Sólo para Adheridos \nGratuito \n
URL:https://www.pactomundial.org.mx/evento/bienvenida-al-pacto-mundial-27/
CATEGORIES:Recién Adheridos,WEBINAR
ATTACH;FMTTYPE=image/png:https://www.pactomundial.org.mx/wp-content/uploads/2023/01/Bienvenida-09-e1679021969916.png
END:VEVENT
BEGIN:VEVENT
DTSTART;TZID=America/Mexico_City:20230920T100000
DTEND;TZID=America/Mexico_City:20230920T110000
DTSTAMP:20230415T043647
CREATED:20230317T025539Z
LAST-MODIFIED:20230317T025539Z
UID:12034-1695204000-1695207600@www.pactomundial.org.mx
SUMMARY:Comunica tu Compromiso: Uso de imagen y logo
DESCRIPTION:Sólo para Adheridos \nGratuito \n
URL:https://www.pactomundial.org.mx/evento/comunica-tu-compromiso-uso-de-imagen-y-logo-22/
CATEGORIES:Recién Adheridos,WEBINAR
ATTACH;FMTTYPE=image/png:https://www.pactomundial.org.mx/wp-content/uploads/2023/03/COMM-LOGO-08-e1679021686488.png
END:VEVENT
BEGIN:VEVENT
DTSTART;TZID=America/Mexico_City:20230913T080000
DTEND;TZID=America/Mexico_City:20230913T170000
DTSTAMP:20230415T043647
CREATED:20230317T025241Z
LAST-MODIFIED:20230317T025241Z
UID:12032-1694592000-1694624400@www.pactomundial.org.mx
SUMMARY:Nuevo Entrenamiento CoP
DESCRIPTION:Sólo para Adheridos \nGratuito \n
URL:https://www.pactomundial.org.mx/evento/nuevo-entrenamiento-cop-6/
CATEGORIES:Recién Adheridos,WEBINAR
ATTACH;FMTTYPE=image/png:https://www.pactomundial.org.mx/wp-content/uploads/2023/01/ENTRENAMIENTO-CoP-04-e1679021504277.png
END:VEVENT
BEGIN:VEVENT
DTSTART;TZID=America/Mexico_City:20230906T100000
DTEND;TZID=America/Mexico_City:20230906T110000
DTSTAMP:20230415T043647
CREATED:20230317T024951Z
LAST-MODIFIED:20230317T025659Z
UID:12030-1693994400-1693998000@www.pactomundial.org.mx
SUMMARY:Bienvenida al Pacto Mundial
DESCRIPTION:Sólo para Adheridos \nGratuito \n
URL:https://www.pactomundial.org.mx/evento/bienvenida-al-pacto-mundial-26/
CATEGORIES:Recién Adheridos,WEBINAR
ATTACH;FMTTYPE=image/png:https://www.pactomundial.org.mx/wp-content/uploads/2023/01/Bienvenida-08-e1679021333537.png
END:VEVENT
BEGIN:VEVENT
DTSTART;TZID=America/Mexico_City:20230816T100000
DTEND;TZID=America/Mexico_City:20230816T110000
DTSTAMP:20230415T043647
CREATED:20230317T024503Z
LAST-MODIFIED:20230317T024503Z
UID:12028-1692180000-1692183600@www.pactomundial.org.mx
SUMMARY:Comunica tu Compromiso: Uso de imagen y logo
DESCRIPTION:Sólo para Adheridos \nGratuito \n
URL:https://www.pactomundial.org.mx/evento/comunica-tu-compromiso-uso-de-imagen-y-logo-21/
CATEGORIES:Recién Adheridos,WEBINAR
ATTACH;FMTTYPE=image/png:https://www.pactomundial.org.mx/wp-content/uploads/2023/03/COMM-LOGO-07-e1679021043242.png
END:VEVENT
BEGIN:VEVENT
DTSTART;TZID=America/Mexico_City:20230809T100000
DTEND;TZID=America/Mexico_City:20230809T110000
DTSTAMP:20230415T043647
CREATED:20230317T024104Z
LAST-MODIFIED:20230317T024104Z
UID:12026-1691575200-1691578800@www.pactomundial.org.mx
SUMMARY:Nuevo Entrenamiento CoP
DESCRIPTION:Sólo para Adheridos \nGratuito \n
URL:https://www.pactomundial.org.mx/evento/nuevo-entrenamiento-cop-5/
CATEGORIES:Recién Adheridos,WEBINAR
ATTACH;FMTTYPE=image/png:https://www.pactomundial.org.mx/wp-content/uploads/2023/01/ENTRENAMIENTO-CoP-05-e1679020795510.png
END:VEVENT
BEGIN:VEVENT
DTSTART;TZID=America/Mexico_City:20230802T100000
DTEND;TZID=America/Mexico_City:20230802T110000
DTSTAMP:20230415T043647
CREATED:20230317T023647Z
LAST-MODIFIED:20230317T023647Z
UID:12024-1690970400-1690974000@www.pactomundial.org.mx
SUMMARY:Bienvenida al Pacto Mundial
DESCRIPTION:Sólo para Adheridos \nGratuito \n
URL:https://www.pactomundial.org.mx/evento/bienvenida-al-pacto-mundial-25/
CATEGORIES:Recién Adheridos,WEBINAR
ATTACH;FMTTYPE=image/png:https://www.pactomundial.org.mx/wp-content/uploads/2023/01/Bienvenida-07-e1679020581105.png
END:VEVENT
BEGIN:VEVENT
DTSTART;TZID=America/Mexico_City:20230719T100000
DTEND;TZID=America/Mexico_City:20230719T110000
DTSTAMP:20230415T043647
CREATED:20230317T021925Z
LAST-MODIFIED:20230317T021925Z
UID:12012-1689760800-1689764400@www.pactomundial.org.mx
SUMMARY:Comunica tu Compromiso: Uso de imagen y logo
DESCRIPTION:Sólo para Adheridos \nGratuito \n
URL:https://www.pactomundial.org.mx/evento/comunica-tu-compromiso-uso-de-imagen-y-logo-20/
CATEGORIES:Recién Adheridos,WEBINAR
ATTACH;FMTTYPE=image/png:https://www.pactomundial.org.mx/wp-content/uploads/2023/03/COMM-LOGO-06-e1679019544591.png
END:VEVENT
BEGIN:VEVENT
DTSTART;TZID=America/Mexico_City:20230712T100000
DTEND;TZID=America/Mexico_City:20230712T110000
DTSTAMP:20230415T043647
CREATED:20230317T021055Z
LAST-MODIFIED:20230317T021055Z
UID:12010-1689156000-1689159600@www.pactomundial.org.mx
SUMMARY:Nuevo Entrenamiento CoP
DESCRIPTION:Sólo para Adheridos \nGratuito \n
URL:https://www.pactomundial.org.mx/evento/nuevo-entrenamiento-cop-4/
CATEGORIES:Recién Adheridos,WEBINAR
ATTACH;FMTTYPE=image/png:https://www.pactomundial.org.mx/wp-content/uploads/2023/01/ENTRENAMIENTO-CoP-06-e1679019037420.png
END:VEVENT
BEGIN:VEVENT
DTSTART;TZID=America/Mexico_City:20230705T100000
DTEND;TZID=America/Mexico_City:20230705T110000
DTSTAMP:20230415T043647
CREATED:20230317T020631Z
LAST-MODIFIED:20230317T020631Z
UID:12008-1688551200-1688554800@www.pactomundial.org.mx
SUMMARY:Bienvenida al Pacto Mundial
DESCRIPTION:Solo para Adheridos \nGratuito \n
URL:https://www.pactomundial.org.mx/evento/bienvenida-al-pacto-mundial-24/
CATEGORIES:Recién Adheridos,WEBINAR
ATTACH;FMTTYPE=image/png:https://www.pactomundial.org.mx/wp-content/uploads/2023/01/Bienvenida-06-e1679018778653.png
END:VEVENT
BEGIN:VEVENT
DTSTART;TZID=America/Mexico_City:20230703T090000
DTEND;TZID=America/Mexico_City:20230703T130000
DTSTAMP:20230415T043647
CREATED:20230208T195539Z
LAST-MODIFIED:20230405T233020Z
UID:11697-1688374800-1688389200@www.pactomundial.org.mx
SUMMARY:Nuevos retos en la elaboración de reportes ESG: Taller teórico-práctico para la elaboración de reportes de sostenibilidad bajo marcos internacionales
DESCRIPTION:*Abierto al público \nPacto Mundial México te invita al curso de entrenamiento “Nuevos retos en la elaboración de reportes ESG: Taller teórico-práctico para la elaboración de reportes de sostenibilidad bajo marcos internacionales (GRI\, SASB\, IIRC\, TCFD\, CoP-ODS\, IFRS)” que contribuirá al desarrollo de capacidades para la elaboración de reportes de sostenibilidad y proporcionará información sobre los marcos internacionales de reporte de información ambiental\, social y de gobernanza (ESG\, por sus siglas en inglés). \nEl entrenamiento será impartido por especialistas de KPMG\, quienes cuentan con amplia experiencia en la elaboración de reportes de sostenibilidad y en la prestación de servicios de asesoría para ayudar a empresas a establecer sus estrategias de sostenibilidad y reportar su desempeño sostenible. \nDirigido a profesionistas de México y Latinoamérica en las siguientes áreas: \n\nResponsabilidad Social Corporativa\nDesarrollo Sostenible / Sostenibilidad\nComunicación Corporativa\nCompliance\nRecursos Humanos\nRelación con Inversionistas\nSalud\, Seguridad y Protección Ambiental\n\nEl taller consiste en 12 horas totales de entrenamiento\, divididas en 3 sesiones:\nFECHAS: 3\, 4 y 5 de julio 2023\nHORARIO: 09:00 a 13:00 hrs (CDMX) \nConsulta el temario del taller y conoce al equipo facilitador aquí. \nCOSTO: $13\,900.00 MXN (sin IVA)\n(donativo deducible de impuestos)\n20% de descuento a los adheridos de Pacto Mundial México que van al corriente en aportaciones anuales. \n*Fecha de cierre de inscripciones y pago: 19 de junio del 2023\nINSCRÍBETE AQUÍ\n  \nSi tienes alguna duda\, envía un correo a analisis@pactomundial.org.mx con Iván Arvide. \n
URL:https://www.pactomundial.org.mx/evento/nuevos-retos-en-la-elaboracion-de-reportes-esg-taller-teorico-practico-para-la-elaboracion-de-reportes-de-sostenibilidad-bajo-marcos-internacionales/
LOCATION:En Línea
ATTACH;FMTTYPE=image/jpeg:https://www.pactomundial.org.mx/wp-content/uploads/2023/02/InformesESG-1-1.jpg
END:VEVENT
BEGIN:VEVENT
DTSTART;TZID=America/Mexico_City:20230621T100000
DTEND;TZID=America/Mexico_City:20230621T110000
DTSTAMP:20230415T043647
CREATED:20230317T174009Z
LAST-MODIFIED:20230317T174009Z
UID:12061-1687341600-1687345200@www.pactomundial.org.mx
SUMMARY:Comunica tu Compromiso: Uso de imagen y logo
DESCRIPTION:Sólo para Adheridos \nGratuito \n
URL:https://www.pactomundial.org.mx/evento/comunica-tu-compromiso-uso-de-imagen-y-logo-26/
CATEGORIES:Recién Adheridos,WEBINAR
ATTACH;FMTTYPE=image/png:https://www.pactomundial.org.mx/wp-content/uploads/2023/03/COMM-LOGO-05-e1679074766407.png
END:VEVENT
BEGIN:VEVENT
DTSTART;TZID=America/Mexico_City:20230614T100000
DTEND;TZID=America/Mexico_City:20230614T110000
DTSTAMP:20230415T043647
CREATED:20230317T173730Z
LAST-MODIFIED:20230317T173730Z
UID:12059-1686736800-1686740400@www.pactomundial.org.mx
SUMMARY:Nuevo Entrenamiento CoP
DESCRIPTION:Sólo para Adheridos \nGratuito \n
URL:https://www.pactomundial.org.mx/evento/nuevo-entrenamiento-cop-10/
CATEGORIES:Recién Adheridos,WEBINAR
ATTACH;FMTTYPE=image/png:https://www.pactomundial.org.mx/wp-content/uploads/2023/01/ENTRENAMIENTO-CoP-07-e1679074600852.png
END:VEVENT
BEGIN:VEVENT
DTSTART;TZID=America/Mexico_City:20230607T100000
DTEND;TZID=America/Mexico_City:20230607T230000
DTSTAMP:20230415T043647
CREATED:20230317T173403Z
LAST-MODIFIED:20230317T173403Z
UID:12057-1686132000-1686178800@www.pactomundial.org.mx
SUMMARY:Bienvenida al Pacto Mundial
DESCRIPTION:Sólo para Adheridos \nGratuito \n
URL:https://www.pactomundial.org.mx/evento/bienvenida-al-pacto-mundial-30/
CATEGORIES:Recién Adheridos,WEBINAR
ATTACH;FMTTYPE=image/png:https://www.pactomundial.org.mx/wp-content/uploads/2023/01/Bienvenida-05-e1679074384602.png
END:VEVENT
BEGIN:VEVENT
DTSTART;TZID=America/Mexico_City:20230530T100000
DTEND;TZID=America/Mexico_City:20230530T120000
DTSTAMP:20230415T043647
CREATED:20230208T190316Z
LAST-MODIFIED:20230404T175332Z
UID:11679-1685440800-1685448000@www.pactomundial.org.mx
SUMMARY:Construyendo el inventario de emisiones de Alcance 1 y 2 alineado al Protocolo de GEI (GHG Protocol)
DESCRIPTION:Pacto Mundial México te invita al curso de entrenamiento “Construyendo el inventario de emisiones de Alcance 1 y 2 alineado al Protocolo de GEI (GHG Protocol)” que contribuirá a que tu empresa construya adecuadamente el inventario de emisiones. \nEl entrenamiento será impartido por: \n– Vanessa Treviño | Consultora asociada en Contabilidad de Impactos Ambientales\, South Pole\n– Verónica Solorzano | Consultora asociada en Contabilidad de Impactos Ambientales\, South Pole\n– Alejandra Ramírez | Consultora gerente en Estrategias Climáticas Corporativas\, South Pole \nEl taller también está dirigido a empresas que ya cuenten con un inventario de emisiones de Alcance 1 y 2 pero que estén interesadas en alinearlo al Protocolo de GEI (GHG Protocol). \nLas y los participantes recibirán una constancia de participación emitida por la Red Mexicana del Pacto Mundial de las Naciones Unidas y South Pole. \nDirigido a profesionistas de México y Latinoamérica de las siguientes áreas: \n\nDesarrollo Sostenible / Sostenibilidad\nResponsabilidad Social Corporativa\nCompliance\nAuditoría\nEHS\n\nEl taller consiste en 8 horas totales de entrenamiento\, divididas en 4 sesiones:\nFECHAS: 30 de mayo y 1\, 6 y 8 de junio\nHORARIO: 10:00 a 12:00 hrs (CDMX) \nConsulta el temario del taller y conoce al equipo facilitador aquí. \nCOSTO: $9\,000.00 MXN (sin IVA) (donativo deducible de impuestos)\n20% de descuento a los adheridos de Pacto Mundial México que van al corriente en aportaciones anuales. \n*Fecha de cierre de inscripciones y pago: 16 de mayo del 2023\nINSCRÍBETE AQUÍ\n  \nSi tienes alguna duda\, envía un correo a analisis@pactomundial.org.mx con Iván Arvide. \n
URL:https://www.pactomundial.org.mx/evento/construyendo-el-inventario-de-emisiones-de-alcance-1-y-2-alineado-al-protocolo-de-gei-ghg-protocol/
LOCATION:En Línea
ATTACH;FMTTYPE=image/jpeg:https://www.pactomundial.org.mx/wp-content/uploads/2023/02/Alcance1y2-4-1.jpg
END:VEVENT
BEGIN:VEVENT
DTSTART;TZID=America/Mexico_City:20230517T100000
DTEND;TZID=America/Mexico_City:20230517T110000
DTSTAMP:20230415T043647
CREATED:20230120T024927Z
LAST-MODIFIED:20230317T022012Z
UID:11597-1684317600-1684321200@www.pactomundial.org.mx
SUMMARY:Comunica tu Compromiso: Uso de imagen y logo
DESCRIPTION:Solo para Adheridos \nGratuito \n
URL:https://www.pactomundial.org.mx/evento/comunica-tu-compromiso-uso-de-imagen-y-logo-19/
CATEGORIES:Recién Adheridos,WEBINAR
ATTACH;FMTTYPE=image/jpeg:https://www.pactomundial.org.mx/wp-content/uploads/2023/01/3-Usoimagen-mayo-e1674182901845.jpg
END:VEVENT
BEGIN:VEVENT
DTSTART;TZID=America/Mexico_City:20230510T100000
DTEND;TZID=America/Mexico_City:20230510T100000
DTSTAMP:20230415T043647
CREATED:20230120T024619Z
LAST-MODIFIED:20230317T020111Z
UID:11595-1683712800-1683712800@www.pactomundial.org.mx
SUMMARY:Nuevo Entrenamiento CoP
DESCRIPTION:Solo para Adheridos \nGratuito \n
URL:https://www.pactomundial.org.mx/evento/nuevo-entrenamiento-cop-3/
CATEGORIES:Recién Adheridos,WEBINAR
ATTACH;FMTTYPE=image/png:https://www.pactomundial.org.mx/wp-content/uploads/2023/01/ENTRENAMIENTO-CoP-09-e1679018455360.png
END:VEVENT
BEGIN:VEVENT
DTSTART;TZID=America/Mexico_City:20230503T100000
DTEND;TZID=America/Mexico_City:20230503T110000
DTSTAMP:20230415T043647
CREATED:20230120T024312Z
LAST-MODIFIED:20230120T024312Z
UID:11590-1683108000-1683111600@www.pactomundial.org.mx
SUMMARY:Bienvenida al Pacto Mundial
DESCRIPTION:Solo para Adheridos \nGratuito \n
URL:https://www.pactomundial.org.mx/evento/bienvenida-al-pacto-mundial-23/
CATEGORIES:Recién Adheridos,WEBINAR
ATTACH;FMTTYPE=image/jpeg:https://www.pactomundial.org.mx/wp-content/uploads/2023/01/3-Bienvenida-mayo-e1674182532109.jpg
END:VEVENT
END:VCALENDAR